BEGIN:VCALENDAR
VERSION:2.0
PRODID:-//eventon.com NONSGML v1.0//EN
CALSCALE:GREGORIAN
METHOD:PUBLISH
BEGIN:VEVENT
UID:69e4da377bb13
DTSTAMP:20260419T133551Z
DTSTART:20261213T150000Z
DTEND:20261213T163000Z
LOCATION:Löbau - Messe- &amp; Veranstaltungspark Görlitzer Straße 2 \,  2708 Löbau
SUMMARY:Aschenbrödel - Das Wintermärchen in Sand
DESCRIPTION:Ein zeitloses Märchen erwacht in einer besonderen Inszenierung
  zu neuem Leben. Aus feinem Sand entstehen bewegte Bilder\,  die sich stän
 dig verwandeln und eine poetische Geschichte erzählen – voller Emotion\,
   Fantasie und leiser Magie. Eine Welt aus Licht\,  Schatten und Musik füh
 rt das Publikum durch eine berührende Reise über Mut\,  Hoffnung[..]\nhtt
 ps://sand.theater/events/aschenbroedel-das-wintermaerchen-in-sand-in-loebau
URL:https://sand.theater/events/aschenbroedel-das-wintermaerchen-in-sand-in-loebau
END:VEVENT
END:VCALENDAR